BEGIN:VCALENDAR
VERSION:2.0
PRODID:-//Dirección de Deportes de la Habana - ECPv6.0.9//NONSGML v1.0//EN
CALSCALE:GREGORIAN
METHOD:PUBLISH
X-ORIGINAL-URL:http://habana.inder.gob.cu
X-WR-CALDESC:Eventos para Dirección de Deportes de la Habana
REFRESH-INTERVAL;VALUE=DURATION:PT1H
X-Robots-Tag:noindex
X-PUBLISHED-TTL:PT1H
BEGIN:VTIMEZONE
TZID:UTC
BEGIN:STANDARD
TZOFFSETFROM:+0000
TZOFFSETTO:+0000
TZNAME:UTC
DTSTART:20190101T000000
END:STANDARD
END:VTIMEZONE
BEGIN:VEVENT
DTSTART;TZID=UTC:20191101T080000
DTEND;TZID=UTC:20191101T170000
DTSTAMP:20260423T092245
CREATED:20191101T173410Z
LAST-MODIFIED:20191101T173410Z
UID:2195-1572595200-1572627600@habana.inder.gob.cu
SUMMARY:El Bloqueo de EE. UU. al deporte tiene dolientes...
DESCRIPTION:La peor consecuencia de carecer\, de estar en desventaja\, de temer\, no es la derrota deportiva\, sino el sufrimiento diario a causa de los antojos de un enemigo grande e inalcanzable.\n\n\n\nPor: Rudens Tembrás Arcia\n(jit@inder.cu)miércoles\, 30 de octubre de 2019 11:47 PM \nLa Habana.- EL BLOQUEO Económico\, Comercial y Financiero de Estados Unidos contra Cuba es un asunto humano\, humanísimo\, cargado de historias y vivencias\, de dolientes\, sobre todo de dolientes. \nLos tecnicismos presentes en informes y metodologías no dicen tanto como las anécdotas nacidas de cubanos simples\, de los hombres y mujeres que sostienen la nación en estos tiempos. \nDecir que el deporte cubano perdió más de cuatro millones de dólares entre los meses de abril de 2018 y 2019 ilustra lo pesado de la absurda política mantenida por la Casa Blanca\, pero no emociona\, no conmueve\, no duele. \nQuizás por eso\, la Comisión de Salud y Deportes de la Asamblea Nacional del Poder Popular promueve las audiencias públicas en centros laborales y estudiantiles\, también en las comunidades. La idea es dar voz a quienes sienten\, entre penurias y limitaciones\, las consecuencias de una ley estadounidense políticamente motivada y que tiene como propósito irritar al pueblo cubano y colocarlo contra su gobierno. \nSin embargo\, este miércoles en la Escuela Superior de Formación de Atletas de Alto Rendimiento Cerro Pelado el enemigo encontró todo lo contrario: rechazo a la agresión imperial y apoyo a la Revolución. \nAriel Saínz\, presidente de la Federación Cubana de Voleibol\, recordó que el jugador de playa Sergio González no ha podido cobrar premios por valor de 28 mil dólares\, debido a que el Bloqueo persigue las transacciones financieras de las instituciones de la Isla. \nRafael Guerra\, su homólogo del tiro deportivo\, comentó con visible dolor como una fábrica les expresó\, cara a cara\, que una “ley americana” prohibía venderles el arma necesaria para un campeón cubano. \nRolando Acebal\, entrenador jefe del boxeo nacional\, aseguró que los costos del Bloqueo no son solo económicos\, sino que impactan de manera decisiva en la sicología de los atletas. \nLa peor consecuencia de carecer\, de estar en desventaja\, de temer\, no es la derrota deportiva\, sino el sufrimiento diario a causa de los antojos de un enemigo grande e inalcanzable. \nAlejandro Más\, subdirector de la Esfaar\, expresó que forman atletas con una visión humanista\, y no “robots” destinados a ganar medallas. Entonces narró cuántos obstáculos deben sortearse para garantizar el entrenamiento\, las competencias\, la alimentación\, el descanso\, la recreación. \nOliet Rodríguez\, comisionado nacional de fútbol\, ejemplificó las heridas que el Bloqueo causa al más universal en Cuba. Solo evoquemos las peripecias vividas para asistir a lides en Norteamérica\, y seamos conscientes de que más de un millón de dólares se mantienen en un limbo financiero y no convertido en balones\, canchas\, uniformes\, premios\, etc. \nRodney Montes de Oca\, director del Laboratorio Antidoping de La Habana\, califica como heroísmo el sostenimiento de una institución de este tipo en nuestro país. \nSucede que el Bloqueo prefiere a los tramposos antes de tolerar la venta a Cuba de tecnologías de punta como el Espectrómetro de Masas\, o los insumos necesarios para realizar las pruebas de orina\, sangre y otras establecidas por la Agencia Mundial Antidopaje. \nMolesta pensar que nuestros especialistas médicos no pueden intercambiar con homólogos de Estados Unidos\, y que en ocasiones ni siquiera se les permite revisar información en sitios webs de ese país. \nEstos testimonios\, cual botones de muestra\, cuentan una historia de odio y menosprecio por parte del gobierno de Estados Unidos hacia los cubanos. Son la viva expresión del yugo imperial\, y a su vez\, de la resistencia consciente. \n«Hará falta mucho más que un Bloqueo y las cosas de Trump para detener al deporte cubano»\, dijo un joven pesista casi al cierre de la audiencia. Y esa convicción acompaña a muchos. \n 
URL:http://habana.inder.gob.cu/event/el-bloqueo-de-ee-uu-al-deporte-tiene-dolientes/
ATTACH;FMTTYPE=image/jpeg:http://habana.inder.gob.cu/wp-content/uploads/2019/11/BloqueoAudiencia-Pública.jpg
END:VEVENT
BEGIN:VEVENT
DTSTART;TZID=UTC:20190527T080000
DTEND;TZID=UTC:20190527T170000
DTSTAMP:20260423T092245
CREATED:20190527T202718Z
LAST-MODIFIED:20190527T202718Z
UID:1973-1558944000-1558976400@habana.inder.gob.cu
SUMMARY:EVENTOS DEL MES de Junio
DESCRIPTION:EVENTOS DEL MES de Junio \n\n\n\nDEPORTES\nEVENTOS Y COMPETENCIAS\nFECHA\nSEDE\n\n\nINTERNACIONALES\n\n\n\n\n\nAtletismo\nMemorial Barrientos\n5 al 10\nEstadio Panamericano\n\n\nTenis\nHorizontes de la Amistad\n21 al 29\n     Hotel Memorias\n\n\nLevantamiento Pesas\nManuel Suárez Inmemoriam\n25 al 29\nCerro Pelado\n\n\nNACIONALES\n\n\n\n\n\n1ra CATEGORIA\n\n\n\n\n\nClavados\nNacional\n10 al 15\nComplejo de Piscina\n\n\nBeisbol\nSerie Nacional Sub 23 \nSemif 3 al 5 \nFinal 7 al 12\nPendiente\n\n\nBaloncesto\nMasculino\n1 al 20\nPolivalente Ramón Font\n\n\nJUVENIL\n\n\n\n\n\nBaloncesto\nFemenino\n       20 al 28\nPolivalente Ramón Fonst\n\n\nCiclismo\nMasculino y Femenino\n20 al 27\nVelódromo\n\n\nPelota Vasca\nMasculino y Femenino\n20 al 25\nComplejo Raúl Díaz Arguelles\n\n\nTriatlón\nJuvenil y Escolar\n24 al 28\nMarina Hemingway\n\n\nProvincial\n \n \n \n\n\nCultura Física\nCarrerea por el Día Olímpico\n15\nAve de las Misiones Gobierno Provincial\n\n\nOTRAS DIRECCIONES\n \n \n \n\n\nDocencia\nFórum Ramal Provincial de Deportes\n11 y 12\nCentro de Convenciones de Cojimar\n\n\nDocencia Cursos y Seminarios\nCurso Técnico Metodológico de Seguridad y Protección\n        18 al 21\n Complejo 26 de Julio\n\n\n\n  \nEVENTOS APORTE \n\n\n\nDEPORTES\nCOMPETENCIAS Y EVENTOS\nFECHA\nSEDE\n\n\nNACIONAL\n \n \n \n\n\n1RA CATEGORÍA \n \n \n \n\n\nBeisbol\n Sub 23\n 3 al 12\nPor definir\n\n\nCiclismo\nNacional Elite\n13 al 16\nHolguín\n\n\nLucha Libre\n1era Categoría\n1 al 6\nCamagüey\n\n\nRemo\n1era Categoría\n29/5 al 1/6\nArtemisa\n\n\nBoxeo\nFinal 1era Categoria\n9 al 15\nCamaguey\n\n\nJudo\nCampeonato Nacional\n1 al 5/04\nMatanzas\n\n\nJUVENILES\n \n \nMatanzas\n\n\nAjedrez\nMasc y Fem\n27/6 al 3/7\nPinar del Rio\n\n\nBaloncesto\nMasc\n20 al 29\nSantiago de Cuba\n\n\nAtletismo\nMasc y Fem\n29/6 al 4/7\nCamaguey\n\n\nBalonmano\nMasc\n20 al 27\nSantiago de Cuba\n\n\nBalonmano\nFem\n20 al 27\nVilla Clara\n\n\nBádminton\nMasc y Fem\n20 al 24\nCienfuegos\n\n\nGimnasia Rítmica\nFem\n20 al 25\nSSP\n\n\nLevantamiento de Pesas\nMasc y Fem\n29/6 al 3/7\nGranma\n\n\nKarate\nMasc y Fem\n20 al 23\nCamaguey\n\n\nNatación Artística\nFem\n20 al 25\nMatanzas\n\n\nHockey\nMasc\n20 al 26\nCiego de Ávila\n\n\nHockey\nFem\n21 al 26\nLas Tunas\n\n\nTenis\nMasc y Fem\nPend\nPend\n\n\nTenis de Mesa\nMasc y Fem\n28/6 al 1/7\nVilla Clara\n\n\nVoleibol\nMasc y Fem\nPend\nPend\n\n\nVoleibol de Playa\nMasc y Fem\n28/6 al 3/7\nCAV\n\n\nJudo\nMasv Y Fem\n29/6 al 3/7\nSSP\n\n\nLucha Greco\nMasc\n20 al 22\nCamaguey\n\n\nLucha Libre\nMasc y Fem\n24 al 28\nCamaguey\n\n\nPatinaje\nMasc y Fem\n20 al 24\nCienfuegos\n\n\nPentatlón\nMasc Y Fem\n20 al 25\nGranma\n\n\nPolo Acuático\nMasc\n20 al 27\nCienfuegos\n\n\nPolo Acuático\nFem\n20 al 27\nHolguín\n\n\nSoftbol\nMasc\n20 al 27\nSSP\n\n\nVelas\nMasc y Fem\n20 al 26\nCienfuegos\n\n\nFútbol\nFem\n20 al 26\nSantiago de Cuba\n\n\nDocencia Cursos y Seminarios \n  \n  \n \nRegla y Arbitraje de Levantamiento de Pesas\n3 al 7\nCiego d Ávila  (1 personas)\n\n\nTécnico Metodológico de Deporte Canino\n20 al 22\nSantiago de Cuba (2 personas\n\n\nTécnico Metodológico de Actividad Física Comunitaria\n3 al 7\n Guantánamo( 1 Personas)\n\n\nTécnico Metodológico de Ajedrez\n20 al 26\nMayabeque(1 Personas)\n\n\nTécnico Metodológico de Educación Física Especial\n10 al 14\nMatanzas(1Personas)\n\n\nTécnico Metodológico de Educación Física Secundaria\n24 al 28\nCienfuegos (1 persona)\n\n\n \nTécnico Metodológico de Educación Preescolar\, Politécnica y Superior\n17 al 21\nGranma (1 personas)\n\n\n\n  \n  \n  \n  \n  \n  \n  \n  \n  \n 
URL:http://habana.inder.gob.cu/event/eventos-del-mes-de-junio/
END:VEVENT
BEGIN:VEVENT
DTSTART;TZID=UTC:20190213T080000
DTEND;TZID=UTC:20190213T170000
DTSTAMP:20260423T092245
CREATED:20190213T150154Z
LAST-MODIFIED:20190215T172550Z
UID:1682-1550044800-1550077200@habana.inder.gob.cu
SUMMARY:Mes: Febrero
DESCRIPTION:EVENTOS DEL MES de Febrero \n  \n\n\n\nDEPORTES\nEVENTOS Y COMPETENCIAS\nFECHA\nSEDE\n\n\nINTERNACIONALES\n\n\n\n\n\nBoxeo\nSerie  Mundial de Boxeo\nFebrero\nColiseo Ciudad Deportiva\n\n\nBoxeo\nSerie  Mundial de Boxeo\nFebrero\nColiseo Ciudad Deportiva\n\n\nLucha\nTorneo ¨Cerro Pelado-Granma¨\n15 al 23\nColiseo Ciudad Deportiva\n\n\nTriatlón\nCopa Iberoamericana\n22 al 25\nCircuito Marina Hemingway\n\n\nNACIONALES\n\n\n\n\n\n1ra CATEGORIA\n\n\n\n\n\nFútbol \n1ra Fase 104 Liga Nacional 1ra División. Liga de Apertura. Zona Occidental viajando.\n2\,16\,23\nEstadio Pedro Marrero\n\n\nP.Vasca(Raquetbol)\nCampeonato Nac. Selectivo\n18 al 23\nComplejo Raúl Díaz Arguelles\n\n\nCultura Física\nGala Deporte para todos\n23\nCiudad Deportiva\n\n\nCultura Física\nCarrera Aniversario del INDER\n16\nCacahual- Ciudad Deportiva\n\n\nJUVENIL\n\n\n\n\n\nBéisbol \nClasificatoria Categ. 17-18 Años \n2 y3 \nEstadio Changa Mederos\n\n\nESCOLAR\n\n\n\n\n\nBéisbol \nClasificatoria Categ. 15-16 Años Masc. Zonal Viajando\n9 y 10 (IJ) \n23 Y 24 (ART)\nCuatro Caminos\n\n\n\n\n\n\n\n\n\n\n\n\nEstratégicos Provinciales\n \n \n \n\n\nGo\nTorneo Invierno de GO\n16 y 17\nComb. Dep. E. Saborit\n\n\nProvinciales\n50\n \n \n\n\nDocencia\n \n \n \n\n\nRegla y Arbitraje\nGimnasia Artistica Fem\n3- 9/2/2019\nEscuela Nac. (20 personas)\n\n\nTécnico Metodológico y Reglas y Arbitraje\nRaquetbol\n4-9/2/2019\nEsc. Nac.\n\n\nTécnico Metodológico y Reglas y Arbitraje\nNatación\n9-11/2/2019\nMulgoba\n\n\nReglas y Arbitraje\nGimnasia Artistica Masc.\n17-23/2/2019\nEsc. Nac\n\n\nReglas y Arbitraje\nVoleibol\n18-25/2/2019\nMulgoba\n\n\n\n 
URL:http://habana.inder.gob.cu/event/mes-febrero/
END:VEVENT
END:VCALENDAR